Package: RITAN Version: 1.31.0 Command: /Library/Frameworks/R.framework/Resources/bin/R CMD build --keep-empty-dirs --no-resave-data RITAN StartedAt: 2025-02-09 17:25:00 -0500 (Sun, 09 Feb 2025) EndedAt: 2025-02-09 17:25:48 -0500 (Sun, 09 Feb 2025) EllapsedTime: 48.5 seconds RetCode: 0 Status: OK PackageFile: RITAN_1.31.0.tar.gz PackageFileSize: 877.5 KiB