Package: RITAN Version: 1.31.0 Command: /home/biocbuild/R/R/bin/R CMD INSTALL RITAN StartedAt: 2025-01-29 20:00:57 -0000 (Wed, 29 Jan 2025) EndedAt: 2025-01-29 20:01:51 -0000 (Wed, 29 Jan 2025) EllapsedTime: 54.6 seconds RetCode: 0 Status: OK