Package: RITAN Version: 1.31.0 Command: /home/biocbuild/bbs-3.21-bioc/R/bin/R CMD check --install=check:RITAN.install-out.txt --library=/home/biocbuild/bbs-3.21-bioc/R/site-library --timings RITAN_1.31.0.tar.gz StartedAt: 2025-02-13 01:56:58 -0500 (Thu, 13 Feb 2025) EndedAt: 2025-02-13 02:03:45 -0500 (Thu, 13 Feb 2025) EllapsedTime: 407.6 seconds RetCode: 0 Status: WARNINGS CheckDir: RITAN.Rcheck Warnings: 1