Package: RITAN Version: 1.31.0 Command: E:\biocbuild\bbs-3.21-bioc\R\bin\R.exe CMD INSTALL RITAN StartedAt: 2025-02-09 16:29:31 -0500 (Sun, 09 Feb 2025) EndedAt: 2025-02-09 16:30:21 -0500 (Sun, 09 Feb 2025) EllapsedTime: 49.8 seconds RetCode: 0 Status: OK