Package: RImmPort Version: 1.35.0 Command: /Library/Frameworks/R.framework/Resources/bin/R CMD build --keep-empty-dirs --no-resave-data RImmPort StartedAt: 2025-02-09 17:24:58 -0500 (Sun, 09 Feb 2025) EndedAt: 2025-02-09 17:25:09 -0500 (Sun, 09 Feb 2025) EllapsedTime: 11.1 seconds RetCode: 0 Status: OK PackageFile: RImmPort_1.35.0.tar.gz PackageFileSize: 2.821 MiB