Package: RImmPort Version: 1.35.0 Command: /Library/Frameworks/R.framework/Resources/bin/R CMD check --install=check:RImmPort.install-out.txt --library=/Library/Frameworks/R.framework/Resources/library --no-vignettes --timings RImmPort_1.35.0.tar.gz StartedAt: 2025-02-04 21:00:40 -0500 (Tue, 04 Feb 2025) EndedAt: 2025-02-04 21:01:00 -0500 (Tue, 04 Feb 2025) EllapsedTime: 20.2 seconds RetCode: 0 Status: OK CheckDir: RImmPort.Rcheck Warnings: 0