Package: RImmPort Version: 1.35.0 Command: /Library/Frameworks/R.framework/Resources/bin/R CMD INSTALL RImmPort StartedAt: 2025-02-09 15:07:04 -0500 (Sun, 09 Feb 2025) EndedAt: 2025-02-09 15:07:08 -0500 (Sun, 09 Feb 2025) EllapsedTime: 3.6 seconds RetCode: 0 Status: OK