Package: RImmPort Version: 1.35.0 Command: /home/biocbuild/R/R/bin/R CMD build --keep-empty-dirs --no-resave-data RImmPort StartedAt: 2025-01-29 01:43:30 -0000 (Wed, 29 Jan 2025) EndedAt: 2025-01-29 01:43:55 -0000 (Wed, 29 Jan 2025) EllapsedTime: 25.0 seconds RetCode: 0 Status: OK PackageFile: RImmPort_1.35.0.tar.gz PackageFileSize: 2.797 MiB