Package: RImmPort Version: 1.35.0 Command: rm -rf RImmPort.buildbin-libdir && mkdir RImmPort.buildbin-libdir && /Users/biocbuild/BBS/utils/build-universal.sh RImmPort_1.35.0.tar.gz /Library/Frameworks/R.framework/Resources/bin/R RImmPort.buildbin-libdir StartedAt: 2025-02-13 00:54:31 -0500 (Thu, 13 Feb 2025) EndedAt: 2025-02-13 00:54:46 -0500 (Thu, 13 Feb 2025) EllapsedTime: 15.0 seconds RetCode: 0 Status: OK PackageFile: RImmPort_1.35.0.tgz PackageFileSize: 2.521 MiB