Package: RJMCMCNucleosomes Version: 1.31.0 Command: /Library/Frameworks/R.framework/Resources/bin/R CMD check --install=check:RJMCMCNucleosomes.install-out.txt --library=/Library/Frameworks/R.framework/Resources/library --no-vignettes --timings RJMCMCNucleosomes_1.31.0.tar.gz StartedAt: 2025-02-09 20:59:35 -0500 (Sun, 09 Feb 2025) EndedAt: 2025-02-09 21:01:17 -0500 (Sun, 09 Feb 2025) EllapsedTime: 102.3 seconds RetCode: 0 Status: OK CheckDir: RJMCMCNucleosomes.Rcheck Warnings: 0