Package: RJMCMCNucleosomes Version: 1.31.0 Command: /Library/Frameworks/R.framework/Resources/bin/R CMD INSTALL RJMCMCNucleosomes StartedAt: 2025-02-09 15:10:15 -0500 (Sun, 09 Feb 2025) EndedAt: 2025-02-09 15:10:32 -0500 (Sun, 09 Feb 2025) EllapsedTime: 16.8 seconds RetCode: 0 Status: OK