Package: RJMCMCNucleosomes Version: 1.31.0 Command: E:\biocbuild\bbs-3.21-bioc\R\bin\R.exe CMD INSTALL RJMCMCNucleosomes StartedAt: 2025-02-09 16:34:25 -0500 (Sun, 09 Feb 2025) EndedAt: 2025-02-09 16:36:21 -0500 (Sun, 09 Feb 2025) EllapsedTime: 115.8 seconds RetCode: 0 Status: OK