Package: RLassoCox Version: 1.15.0 Command: /Library/Frameworks/R.framework/Resources/bin/R CMD build --keep-empty-dirs --no-resave-data RLassoCox StartedAt: 2025-02-09 17:25:19 -0500 (Sun, 09 Feb 2025) EndedAt: 2025-02-09 17:25:49 -0500 (Sun, 09 Feb 2025) EllapsedTime: 30.4 seconds RetCode: 0 Status: OK PackageFile: RLassoCox_1.15.0.tar.gz PackageFileSize: 1.967 MiB