Package: RLassoCox Version: 1.15.0 Command: /Library/Frameworks/R.framework/Resources/bin/R CMD INSTALL RLassoCox StartedAt: 2025-02-09 15:19:57 -0500 (Sun, 09 Feb 2025) EndedAt: 2025-02-09 15:19:59 -0500 (Sun, 09 Feb 2025) EllapsedTime: 2.5 seconds RetCode: 0 Status: OK