Package: RLassoCox Version: 1.15.0 Command: /Library/Frameworks/R.framework/Resources/bin/R CMD check --install=check:RLassoCox.install-out.txt --library=/Library/Frameworks/R.framework/Resources/library --no-vignettes --timings RLassoCox_1.15.0.tar.gz StartedAt: 2025-02-09 23:07:47 -0500 (Sun, 09 Feb 2025) EndedAt: 2025-02-09 23:11:53 -0500 (Sun, 09 Feb 2025) EllapsedTime: 245.7 seconds RetCode: 0 Status: OK CheckDir: RLassoCox.Rcheck Warnings: 0