Package: RLassoCox Version: 1.15.0 Command: /home/biocbuild/bbs-3.21-bioc/R/bin/R CMD build --keep-empty-dirs --no-resave-data RLassoCox StartedAt: 2025-02-09 18:56:59 -0500 (Sun, 09 Feb 2025) EndedAt: 2025-02-09 18:58:19 -0500 (Sun, 09 Feb 2025) EllapsedTime: 79.1 seconds RetCode: 0 Status: OK PackageFile: RLassoCox_1.15.0.tar.gz PackageFileSize: 2.005 MiB