Package: RLassoCox Version: 1.15.0 Command: rm -rf RLassoCox.buildbin-libdir && mkdir RLassoCox.buildbin-libdir && E:\biocbuild\bbs-3.21-bioc\R\bin\R.exe CMD INSTALL --build --library=RLassoCox.buildbin-libdir RLassoCox_1.15.0.tar.gz StartedAt: 2025-02-10 08:34:05 -0500 (Mon, 10 Feb 2025) EndedAt: 2025-02-10 08:34:16 -0500 (Mon, 10 Feb 2025) EllapsedTime: 11.1 seconds RetCode: 0 Status: OK PackageFile: RLassoCox_1.15.0.zip PackageFileSize: 1.996 MiB