Package: RLassoCox Version: 1.15.0 Command: E:\biocbuild\bbs-3.21-bioc\R\bin\R.exe CMD check --no-multiarch --install=check:RLassoCox.install-out.txt --library=E:\biocbuild\bbs-3.21-bioc\R\library --no-vignettes --timings RLassoCox_1.15.0.tar.gz StartedAt: 2025-02-13 04:54:03 -0500 (Thu, 13 Feb 2025) EndedAt: 2025-02-13 04:59:18 -0500 (Thu, 13 Feb 2025) EllapsedTime: 314.3 seconds RetCode: 0 Status: OK CheckDir: RLassoCox.Rcheck Warnings: 0