Package: RMassBank Version: 3.17.0 Command: /Library/Frameworks/R.framework/Resources/bin/R CMD build --keep-empty-dirs --no-resave-data RMassBank StartedAt: 2025-02-12 17:25:35 -0500 (Wed, 12 Feb 2025) EndedAt: 2025-02-12 17:28:16 -0500 (Wed, 12 Feb 2025) EllapsedTime: 160.8 seconds RetCode: 0 Status: OK PackageFile: RMassBank_3.17.0.tar.gz PackageFileSize: 1.839 MiB