Package: RMassBank Version: 3.17.0 Command: /home/biocbuild/R/R/bin/R CMD INSTALL RMassBank StartedAt: 2025-01-29 20:30:13 -0000 (Wed, 29 Jan 2025) EndedAt: 2025-01-29 20:31:20 -0000 (Wed, 29 Jan 2025) EllapsedTime: 67.4 seconds RetCode: 0 Status: OK