Package: RMassBank Version: 3.17.0 Command: /Library/Frameworks/R.framework/Resources/bin/R CMD check --install=check:RMassBank.install-out.txt --library=/Library/Frameworks/R.framework/Resources/library --no-vignettes --timings RMassBank_3.17.0.tar.gz StartedAt: 2025-02-09 23:08:29 -0500 (Sun, 09 Feb 2025) EndedAt: 2025-02-09 23:14:26 -0500 (Sun, 09 Feb 2025) EllapsedTime: 357.1 seconds RetCode: 0 Status: OK CheckDir: RMassBank.Rcheck Warnings: 0