Package: RMassBank Version: 3.17.0 Command: /Library/Frameworks/R.framework/Resources/bin/R CMD INSTALL RMassBank StartedAt: 2025-02-09 15:40:10 -0500 (Sun, 09 Feb 2025) EndedAt: 2025-02-09 15:41:17 -0500 (Sun, 09 Feb 2025) EllapsedTime: 67.2 seconds RetCode: 0 Status: OK