Package: RMassBank Version: 3.17.0 Command: /home/biocbuild/bbs-3.21-bioc/R/bin/R CMD build --keep-empty-dirs --no-resave-data RMassBank StartedAt: 2025-02-09 18:57:11 -0500 (Sun, 09 Feb 2025) EndedAt: 2025-02-09 19:04:03 -0500 (Sun, 09 Feb 2025) EllapsedTime: 411.6 seconds RetCode: 0 Status: OK PackageFile: RMassBank_3.17.0.tar.gz PackageFileSize: 1.844 MiB