Package: RMassBank Version: 3.17.0 Command: chmod a+r RMassBank -R && E:\biocbuild\bbs-3.21-bioc\R\bin\R.exe CMD build --keep-empty-dirs --no-resave-data RMassBank StartedAt: 2025-02-09 21:13:16 -0500 (Sun, 09 Feb 2025) EndedAt: 2025-02-09 21:24:00 -0500 (Sun, 09 Feb 2025) EllapsedTime: 643.5 seconds RetCode: 0 Status: OK PackageFile: RMassBank_3.17.0.tar.gz PackageFileSize: 1.1 MiB