Package: RNAdecay Version: 1.27.0 Command: /Library/Frameworks/R.framework/Resources/bin/R CMD INSTALL RNAdecay StartedAt: 2025-02-09 15:05:49 -0500 (Sun, 09 Feb 2025) EndedAt: 2025-02-09 15:07:38 -0500 (Sun, 09 Feb 2025) EllapsedTime: 109.6 seconds RetCode: 0 Status: OK