Package: RNAdecay Version: 1.27.0 Command: /home/biocbuild/R/R/bin/R CMD INSTALL RNAdecay StartedAt: 2025-01-29 19:37:07 -0000 (Wed, 29 Jan 2025) EndedAt: 2025-01-29 19:49:11 -0000 (Wed, 29 Jan 2025) EllapsedTime: 724.7 seconds RetCode: 0 Status: OK