Package: RNAdecay Version: 1.27.0 Command: /Library/Frameworks/R.framework/Resources/bin/R CMD build --keep-empty-dirs --no-resave-data RNAdecay StartedAt: 2025-02-04 18:04:19 -0500 (Tue, 04 Feb 2025) EndedAt: 2025-02-04 18:13:41 -0500 (Tue, 04 Feb 2025) EllapsedTime: 561.9 seconds RetCode: 0 Status: OK PackageFile: RNAdecay_1.27.0.tar.gz PackageFileSize: 2.707 MiB