Package: RNAdecay Version: 1.27.0 Command: /Library/Frameworks/R.framework/Resources/bin/R CMD INSTALL RNAdecay StartedAt: 2025-02-04 15:08:35 -0500 (Tue, 04 Feb 2025) EndedAt: 2025-02-04 15:16:13 -0500 (Tue, 04 Feb 2025) EllapsedTime: 457.4 seconds RetCode: 0 Status: OK