Package: RNAmodR.AlkAnilineSeq Version: 1.21.0 Command: /Library/Frameworks/R.framework/Resources/bin/R CMD build --keep-empty-dirs --no-resave-data RNAmodR.AlkAnilineSeq StartedAt: 2025-02-04 17:26:15 -0500 (Tue, 04 Feb 2025) EndedAt: 2025-02-04 17:27:09 -0500 (Tue, 04 Feb 2025) EllapsedTime: 54.6 seconds RetCode: 0 Status: OK PackageFile: RNAmodR.AlkAnilineSeq_1.21.0.tar.gz PackageFileSize: 1.04 MiB