Package: RNAmodR.AlkAnilineSeq Version: 1.21.0 Command: /Library/Frameworks/R.framework/Resources/bin/R CMD check --install=check:RNAmodR.AlkAnilineSeq.install-out.txt --library=/Library/Frameworks/R.framework/Resources/library --no-vignettes --timings RNAmodR.AlkAnilineSeq_1.21.0.tar.gz StartedAt: 2025-02-04 21:03:28 -0500 (Tue, 04 Feb 2025) EndedAt: 2025-02-04 21:06:12 -0500 (Tue, 04 Feb 2025) EllapsedTime: 163.9 seconds RetCode: 0 Status: OK CheckDir: RNAmodR.AlkAnilineSeq.Rcheck Warnings: 0