Package: RNAmodR.AlkAnilineSeq Version: 1.21.0 Command: /home/biocbuild/R/R/bin/R CMD build --keep-empty-dirs --no-resave-data RNAmodR.AlkAnilineSeq StartedAt: 2025-01-29 01:46:25 -0000 (Wed, 29 Jan 2025) EndedAt: 2025-01-29 01:49:52 -0000 (Wed, 29 Jan 2025) EllapsedTime: 207.2 seconds RetCode: 0 Status: OK PackageFile: RNAmodR.AlkAnilineSeq_1.21.0.tar.gz PackageFileSize: 978.4 KiB