Package: RNAmodR.AlkAnilineSeq Version: 1.21.0 Command: /home/biocbuild/R/R/bin/R CMD INSTALL RNAmodR.AlkAnilineSeq StartedAt: 2025-01-29 20:11:38 -0000 (Wed, 29 Jan 2025) EndedAt: 2025-01-29 20:12:55 -0000 (Wed, 29 Jan 2025) EllapsedTime: 76.8 seconds RetCode: 0 Status: OK