Package: RNAmodR.AlkAnilineSeq Version: 1.21.0 Command: /Library/Frameworks/R.framework/Resources/bin/R CMD INSTALL RNAmodR.AlkAnilineSeq StartedAt: 2025-02-09 15:29:53 -0500 (Sun, 09 Feb 2025) EndedAt: 2025-02-09 15:31:11 -0500 (Sun, 09 Feb 2025) EllapsedTime: 78.4 seconds RetCode: 0 Status: OK