Package: RNAmodR.AlkAnilineSeq Version: 1.21.0 Command: /home/biocbuild/bbs-3.21-bioc/R/bin/R CMD INSTALL RNAmodR.AlkAnilineSeq StartedAt: 2025-02-09 15:48:04 -0500 (Sun, 09 Feb 2025) EndedAt: 2025-02-09 15:48:59 -0500 (Sun, 09 Feb 2025) EllapsedTime: 55.8 seconds RetCode: 0 Status: OK