Package: RNAmodR.AlkAnilineSeq Version: 1.21.0 Command: rm -rf RNAmodR.AlkAnilineSeq.buildbin-libdir && mkdir RNAmodR.AlkAnilineSeq.buildbin-libdir && E:\biocbuild\bbs-3.21-bioc\R\bin\R.exe CMD INSTALL --build --library=RNAmodR.AlkAnilineSeq.buildbin-libdir RNAmodR.AlkAnilineSeq_1.21.0.tar.gz StartedAt: 2025-02-10 08:34:34 -0500 (Mon, 10 Feb 2025) EndedAt: 2025-02-10 08:36:50 -0500 (Mon, 10 Feb 2025) EllapsedTime: 136.3 seconds RetCode: 0 Status: OK PackageFile: RNAmodR.AlkAnilineSeq_1.21.0.zip PackageFileSize: 981.9 KiB