Package: RNAmodR.AlkAnilineSeq Version: 1.21.0 Command: chmod a+r RNAmodR.AlkAnilineSeq -R && E:\biocbuild\bbs-3.21-bioc\R\bin\R.exe CMD build --keep-empty-dirs --no-resave-data RNAmodR.AlkAnilineSeq StartedAt: 2025-02-09 21:14:23 -0500 (Sun, 09 Feb 2025) EndedAt: 2025-02-09 21:17:53 -0500 (Sun, 09 Feb 2025) EllapsedTime: 210.3 seconds RetCode: 0 Status: OK PackageFile: RNAmodR.AlkAnilineSeq_1.21.0.tar.gz PackageFileSize: 906.1 KiB