Package: RNAmodR.ML Version: 1.21.0 Command: /Library/Frameworks/R.framework/Resources/bin/R CMD INSTALL RNAmodR.ML StartedAt: 2025-02-09 15:17:22 -0500 (Sun, 09 Feb 2025) EndedAt: 2025-02-09 15:17:46 -0500 (Sun, 09 Feb 2025) EllapsedTime: 23.3 seconds RetCode: 0 Status: OK