Package: RNAmodR.ML Version: 1.21.0 Command: /home/biocbuild/R/R/bin/R CMD check --install=check:RNAmodR.ML.install-out.txt --library=/home/biocbuild/R/R/site-library --no-vignettes --timings RNAmodR.ML_1.21.0.tar.gz StartedAt: 2025-01-28 14:38:20 -0000 (Tue, 28 Jan 2025) EndedAt: 2025-01-28 14:48:16 -0000 (Tue, 28 Jan 2025) EllapsedTime: 595.8 seconds RetCode: 0 Status: WARNINGS CheckDir: RNAmodR.ML.Rcheck Warnings: 6