Package: RNAmodR.ML Version: 1.21.0 Command: /Library/Frameworks/R.framework/Resources/bin/R CMD build --keep-empty-dirs --no-resave-data RNAmodR.ML StartedAt: 2025-02-12 18:04:54 -0500 (Wed, 12 Feb 2025) EndedAt: 2025-02-12 18:08:27 -0500 (Wed, 12 Feb 2025) EllapsedTime: 212.8 seconds RetCode: 0 Status: OK PackageFile: RNAmodR.ML_1.21.0.tar.gz PackageFileSize: 1.58 MiB