Package: RNAmodR.ML Version: 1.21.0 Command: /Library/Frameworks/R.framework/Resources/bin/R CMD check --install=check:RNAmodR.ML.install-out.txt --library=/Library/Frameworks/R.framework/Resources/library --no-vignettes --timings RNAmodR.ML_1.21.0.tar.gz StartedAt: 2025-02-09 23:10:01 -0500 (Sun, 09 Feb 2025) EndedAt: 2025-02-09 23:18:56 -0500 (Sun, 09 Feb 2025) EllapsedTime: 534.8 seconds RetCode: 0 Status: OK CheckDir: RNAmodR.ML.Rcheck Warnings: 0