Package: RNAmodR.ML Version: 1.21.0 Command: /home/biocbuild/bbs-3.21-bioc/R/bin/R CMD build --keep-empty-dirs --no-resave-data RNAmodR.ML StartedAt: 2025-02-09 18:58:17 -0500 (Sun, 09 Feb 2025) EndedAt: 2025-02-09 19:01:30 -0500 (Sun, 09 Feb 2025) EllapsedTime: 193.2 seconds RetCode: 0 Status: OK PackageFile: RNAmodR.ML_1.21.0.tar.gz PackageFileSize: 1.653 MiB