Package: RNAmodR.ML Version: 1.21.0 Command: /home/biocbuild/bbs-3.21-bioc/R/bin/R CMD check --install=check:RNAmodR.ML.install-out.txt --library=/home/biocbuild/bbs-3.21-bioc/R/site-library --timings RNAmodR.ML_1.21.0.tar.gz StartedAt: 2025-02-13 01:59:54 -0500 (Thu, 13 Feb 2025) EndedAt: 2025-02-13 02:09:42 -0500 (Thu, 13 Feb 2025) EllapsedTime: 587.8 seconds RetCode: 0 Status: OK CheckDir: RNAmodR.ML.Rcheck Warnings: 0