Package: RNAmodR.ML Version: 1.21.0 Command: /home/biocbuild/bbs-3.21-bioc/R/bin/R CMD INSTALL RNAmodR.ML StartedAt: 2025-02-09 15:48:05 -0500 (Sun, 09 Feb 2025) EndedAt: 2025-02-09 15:49:04 -0500 (Sun, 09 Feb 2025) EllapsedTime: 58.9 seconds RetCode: 0 Status: OK