Package: RNAmodR.ML Version: 1.21.0 Command: rm -rf RNAmodR.ML.buildbin-libdir && mkdir RNAmodR.ML.buildbin-libdir && E:\biocbuild\bbs-3.21-bioc\R\bin\R.exe CMD INSTALL --build --library=RNAmodR.ML.buildbin-libdir RNAmodR.ML_1.21.0.tar.gz StartedAt: 2025-02-10 08:34:38 -0500 (Mon, 10 Feb 2025) EndedAt: 2025-02-10 08:35:57 -0500 (Mon, 10 Feb 2025) EllapsedTime: 79.6 seconds RetCode: 0 Status: OK PackageFile: RNAmodR.ML_1.21.0.zip PackageFileSize: 1.692 MiB