Package: RNAmodR.ML Version: 1.21.0 Command: chmod a+r RNAmodR.ML -R && E:\biocbuild\bbs-3.21-bioc\R\bin\R.exe CMD build --keep-empty-dirs --no-resave-data RNAmodR.ML StartedAt: 2025-02-12 21:21:08 -0500 (Wed, 12 Feb 2025) EndedAt: 2025-02-12 21:25:33 -0500 (Wed, 12 Feb 2025) EllapsedTime: 265.0 seconds RetCode: 0 Status: OK PackageFile: RNAmodR.ML_1.21.0.tar.gz PackageFileSize: 1.274 MiB