Package: RNAmodR.ML Version: 1.21.0 Command: E:\biocbuild\bbs-3.21-bioc\R\bin\R.exe CMD check --no-multiarch --install=check:RNAmodR.ML.install-out.txt --library=E:\biocbuild\bbs-3.21-bioc\R\library --no-vignettes --timings RNAmodR.ML_1.21.0.tar.gz StartedAt: 2025-02-10 04:46:45 -0500 (Mon, 10 Feb 2025) EndedAt: 2025-02-10 04:55:26 -0500 (Mon, 10 Feb 2025) EllapsedTime: 521.0 seconds RetCode: 0 Status: OK CheckDir: RNAmodR.ML.Rcheck Warnings: 0