Package: RNAmodR.RiboMethSeq Version: 1.21.0 Command: /Library/Frameworks/R.framework/Resources/bin/R CMD build --keep-empty-dirs --no-resave-data RNAmodR.RiboMethSeq StartedAt: 2025-02-12 18:05:09 -0500 (Wed, 12 Feb 2025) EndedAt: 2025-02-12 18:07:21 -0500 (Wed, 12 Feb 2025) EllapsedTime: 131.6 seconds RetCode: 0 Status: OK PackageFile: RNAmodR.RiboMethSeq_1.21.0.tar.gz PackageFileSize: 639.1 KiB