Package: RNAmodR.RiboMethSeq Version: 1.21.0 Command: /Library/Frameworks/R.framework/Resources/bin/R CMD INSTALL RNAmodR.RiboMethSeq StartedAt: 2025-02-09 15:29:57 -0500 (Sun, 09 Feb 2025) EndedAt: 2025-02-09 15:31:13 -0500 (Sun, 09 Feb 2025) EllapsedTime: 76.4 seconds RetCode: 0 Status: OK