Package: RNAmodR.RiboMethSeq Version: 1.21.0 Command: /home/biocbuild/bbs-3.21-bioc/R/bin/R CMD build --keep-empty-dirs --no-resave-data RNAmodR.RiboMethSeq StartedAt: 2025-02-12 18:54:21 -0500 (Wed, 12 Feb 2025) EndedAt: 2025-02-12 18:56:17 -0500 (Wed, 12 Feb 2025) EllapsedTime: 116.1 seconds RetCode: 0 Status: OK PackageFile: RNAmodR.RiboMethSeq_1.21.0.tar.gz PackageFileSize: 642.2 KiB