Package: RNAmodR.RiboMethSeq Version: 1.21.0 Command: E:\biocbuild\bbs-3.21-bioc\R\bin\R.exe CMD INSTALL RNAmodR.RiboMethSeq StartedAt: 2025-02-12 16:41:02 -0500 (Wed, 12 Feb 2025) EndedAt: 2025-02-12 16:42:10 -0500 (Wed, 12 Feb 2025) EllapsedTime: 67.7 seconds RetCode: 0 Status: OK